BEGIN:VCALENDAR
VERSION:2.0
PRODID:-//Luterana Moema - ECPv6.15.20//NONSGML v1.0//EN
CALSCALE:GREGORIAN
METHOD:PUBLISH
X-WR-CALNAME:Luterana Moema
X-ORIGINAL-URL:https://www.luteranamoema.org.br
X-WR-CALDESC:Eventos para Luterana Moema
REFRESH-INTERVAL;VALUE=DURATION:PT1H
X-Robots-Tag:noindex
X-PUBLISHED-TTL:PT1H
BEGIN:VTIMEZONE
TZID:America/Sao_Paulo
BEGIN:STANDARD
TZOFFSETFROM:-0300
TZOFFSETTO:-0300
TZNAME:-03
DTSTART:20230101T000000
END:STANDARD
END:VTIMEZONE
BEGIN:VEVENT
DTSTART;TZID=America/Sao_Paulo:20240702T150000
DTEND;TZID=America/Sao_Paulo:20240702T200000
DTSTAMP:20260421T052637
CREATED:20240705T222704Z
LAST-MODIFIED:20240705T222704Z
UID:5802-1719932400-1719950400@www.luteranamoema.org.br
SUMMARY:Reunião de Pastores DP - Ebenezer
DESCRIPTION:
URL:https://www.luteranamoema.org.br/tec-event/reuniao-de-pastores-dp-ebenezer/
END:VEVENT
BEGIN:VEVENT
DTSTART;TZID=America/Sao_Paulo:20240703T200000
DTEND;TZID=America/Sao_Paulo:20240703T210000
DTSTAMP:20260421T052637
CREATED:20240705T222706Z
LAST-MODIFIED:20240705T222721Z
UID:5807-1720036800-1720040400@www.luteranamoema.org.br
SUMMARY:Ensaio do Coral
DESCRIPTION:
URL:https://www.luteranamoema.org.br/tec-event/ensaio-do-coral-15/
END:VEVENT
BEGIN:VEVENT
DTSTART;TZID=America/Sao_Paulo:20240704T200000
DTEND;TZID=America/Sao_Paulo:20240704T210000
DTSTAMP:20260421T052637
CREATED:20240705T223027Z
LAST-MODIFIED:20240705T223027Z
UID:5819-1720123200-1720126800@www.luteranamoema.org.br
SUMMARY:Profissão de Fé
DESCRIPTION:
URL:https://www.luteranamoema.org.br/tec-event/profissao-de-fe-6/
END:VEVENT
BEGIN:VEVENT
DTSTART;TZID=America/Sao_Paulo:20240707T090000
DTEND;TZID=America/Sao_Paulo:20240707T103000
DTSTAMP:20260421T052637
CREATED:20240531T151724Z
LAST-MODIFIED:20240705T220733Z
UID:5759-1720342800-1720348200@www.luteranamoema.org.br
SUMMARY:Culto - 7º Domingo após Pentecostes
DESCRIPTION:LEITURAS:\nSalmo: Sl 123\n1ª Leitura: Ez 2.1-5\n2ª Leitura: 2Co 12.1-10\n3ª Leitura: Mc 6.1-13
URL:https://www.luteranamoema.org.br/tec-event/culto-7o-domingo-apos-pentecostes/
CATEGORIES:Culto
ATTACH;FMTTYPE=image/jpeg:https://www.luteranamoema.org.br/wp-content/uploads/2024/07/banner-agenda-07-07-24.jpg
END:VEVENT
BEGIN:VEVENT
DTSTART;TZID=America/Sao_Paulo:20240707T100000
DTEND;TZID=America/Sao_Paulo:20240707T113000
DTSTAMP:20260421T052637
CREATED:20240531T151724Z
LAST-MODIFIED:20240531T151724Z
UID:5760-1720346400-1720351800@www.luteranamoema.org.br
SUMMARY:Culto em Nova Odessa
DESCRIPTION:LEITURAS:Salmo: Sl 123\n1ª Leitura: Ez 2.1-5\n2ª Leitura: 2Co 12.1-10\n3ª Leitura: Mc 6.1-13
URL:https://www.luteranamoema.org.br/tec-event/culto-em-nova-odessa-10/
CATEGORIES:Culto
END:VEVENT
BEGIN:VEVENT
DTSTART;TZID=America/Sao_Paulo:20240710T200000
DTEND;TZID=America/Sao_Paulo:20240710T210000
DTSTAMP:20260421T052637
CREATED:20240705T222706Z
LAST-MODIFIED:20240705T222721Z
UID:5808-1720641600-1720645200@www.luteranamoema.org.br
SUMMARY:Ensaio do Coral
DESCRIPTION:
URL:https://www.luteranamoema.org.br/tec-event/ensaio-do-coral-16/
END:VEVENT
BEGIN:VEVENT
DTSTART;TZID=America/Sao_Paulo:20240711T200000
DTEND;TZID=America/Sao_Paulo:20240711T210000
DTSTAMP:20260421T052637
CREATED:20240705T223027Z
LAST-MODIFIED:20240705T223027Z
UID:5820-1720728000-1720731600@www.luteranamoema.org.br
SUMMARY:Profissão de Fé
DESCRIPTION:
URL:https://www.luteranamoema.org.br/tec-event/profissao-de-fe-7/
END:VEVENT
BEGIN:VEVENT
DTSTART;TZID=America/Sao_Paulo:20240713T090000
DTEND;TZID=America/Sao_Paulo:20240713T170000
DTSTAMP:20260421T052637
CREATED:20240705T222704Z
LAST-MODIFIED:20240705T222704Z
UID:5803-1720861200-1720890000@www.luteranamoema.org.br
SUMMARY:Forum de missão Hora Luterana
DESCRIPTION:
URL:https://www.luteranamoema.org.br/tec-event/forum-de-missao-hora-luterana/
END:VEVENT
BEGIN:VEVENT
DTSTART;TZID=America/Sao_Paulo:20240714T090000
DTEND;TZID=America/Sao_Paulo:20240714T103000
DTSTAMP:20260421T052637
CREATED:20240531T151724Z
LAST-MODIFIED:20240713T143021Z
UID:5761-1720947600-1720953000@www.luteranamoema.org.br
SUMMARY:Culto - 8º Domingo após Pentecostes
DESCRIPTION:LEITURAS:\nSalmo: Sl 85.(1-7)8-13\n1ª Leitura: Am 7.7-15\n2ª Leitura: Ef 1.3-14\n3ª Leitura: Mc 6.14-29
URL:https://www.luteranamoema.org.br/tec-event/culto-8o-domingo-apos-pentecostes/
CATEGORIES:Culto
ATTACH;FMTTYPE=image/jpeg:https://www.luteranamoema.org.br/wp-content/uploads/2024/07/banner-agenda-14-07-24.jpg
END:VEVENT
BEGIN:VEVENT
DTSTART;TZID=America/Sao_Paulo:20240715T193000
DTEND;TZID=America/Sao_Paulo:20240715T213000
DTSTAMP:20260421T052637
CREATED:20240705T222704Z
LAST-MODIFIED:20240705T222704Z
UID:5804-1721071800-1721079000@www.luteranamoema.org.br
SUMMARY:Reunião da Diretoria
DESCRIPTION:
URL:https://www.luteranamoema.org.br/tec-event/reuniao-da-diretoria-6/
END:VEVENT
BEGIN:VEVENT
DTSTART;TZID=America/Sao_Paulo:20240717T200000
DTEND;TZID=America/Sao_Paulo:20240717T210000
DTSTAMP:20260421T052637
CREATED:20240705T222706Z
LAST-MODIFIED:20240705T222721Z
UID:5809-1721246400-1721250000@www.luteranamoema.org.br
SUMMARY:Ensaio do Coral
DESCRIPTION:
URL:https://www.luteranamoema.org.br/tec-event/ensaio-do-coral-17/
END:VEVENT
BEGIN:VEVENT
DTSTART;TZID=America/Sao_Paulo:20240718T200000
DTEND;TZID=America/Sao_Paulo:20240718T210000
DTSTAMP:20260421T052637
CREATED:20240705T223027Z
LAST-MODIFIED:20240705T223027Z
UID:5821-1721332800-1721336400@www.luteranamoema.org.br
SUMMARY:Profissão de Fé
DESCRIPTION:
URL:https://www.luteranamoema.org.br/tec-event/profissao-de-fe-8/
END:VEVENT
BEGIN:VEVENT
DTSTART;TZID=America/Sao_Paulo:20240720T090000
DTEND;TZID=America/Sao_Paulo:20240720T100000
DTSTAMP:20260421T052637
CREATED:20240705T222704Z
LAST-MODIFIED:20240705T222704Z
UID:5806-1721466000-1721469600@www.luteranamoema.org.br
SUMMARY:Distribuição de Cestas Básicas
DESCRIPTION:
URL:https://www.luteranamoema.org.br/tec-event/distribuicao-de-cestas-basicas-7/
END:VEVENT
BEGIN:VEVENT
DTSTART;TZID=America/Sao_Paulo:20240720T090000
DTEND;TZID=America/Sao_Paulo:20240720T120000
DTSTAMP:20260421T052637
CREATED:20240705T222704Z
LAST-MODIFIED:20240705T222704Z
UID:5805-1721466000-1721476800@www.luteranamoema.org.br
SUMMARY:Conselho Distrital (Online)
DESCRIPTION:
URL:https://www.luteranamoema.org.br/tec-event/conselho-distrital-online/
END:VEVENT
BEGIN:VEVENT
DTSTART;TZID=America/Sao_Paulo:20240721T090000
DTEND;TZID=America/Sao_Paulo:20240721T103000
DTSTAMP:20260421T052637
CREATED:20240531T151724Z
LAST-MODIFIED:20240719T205856Z
UID:5762-1721552400-1721557800@www.luteranamoema.org.br
SUMMARY:Culto - 9º Domingo após Pentecostes
DESCRIPTION:LEITURAS:\nSalmo: Sl 23\n1ª Leitura: Jr 23.1-6\n2ª Leitura: Ef 2.11-22\n3ª Leitura: Mc 6.30-34(35-44)
URL:https://www.luteranamoema.org.br/tec-event/culto-9o-domingo-apos-pentecostes/
CATEGORIES:Culto
ATTACH;FMTTYPE=image/jpeg:https://www.luteranamoema.org.br/wp-content/uploads/2024/07/banner-agenda-21-07-24.jpg
END:VEVENT
BEGIN:VEVENT
DTSTART;TZID=America/Sao_Paulo:20240721T100000
DTEND;TZID=America/Sao_Paulo:20240721T113000
DTSTAMP:20260421T052637
CREATED:20240531T151724Z
LAST-MODIFIED:20240531T151724Z
UID:5763-1721556000-1721561400@www.luteranamoema.org.br
SUMMARY:Culto em Nova Odessa
DESCRIPTION:LEITURAS:Salmo: Sl 23\n1ª Leitura: Jr 23.1-6\n2ª Leitura: Ef 2.11-22\n3ª Leitura: Mc 6.30-34(35-44)
URL:https://www.luteranamoema.org.br/tec-event/culto-em-nova-odessa-11/
CATEGORIES:Culto
END:VEVENT
BEGIN:VEVENT
DTSTART;TZID=America/Sao_Paulo:20240724T200000
DTEND;TZID=America/Sao_Paulo:20240724T210000
DTSTAMP:20260421T052637
CREATED:20240705T222706Z
LAST-MODIFIED:20240705T222721Z
UID:5810-1721851200-1721854800@www.luteranamoema.org.br
SUMMARY:Ensaio do Coral
DESCRIPTION:
URL:https://www.luteranamoema.org.br/tec-event/ensaio-do-coral-18/
END:VEVENT
BEGIN:VEVENT
DTSTART;TZID=America/Sao_Paulo:20240725T200000
DTEND;TZID=America/Sao_Paulo:20240725T210000
DTSTAMP:20260421T052637
CREATED:20240705T223027Z
LAST-MODIFIED:20240705T223027Z
UID:5822-1721937600-1721941200@www.luteranamoema.org.br
SUMMARY:Profissão de Fé
DESCRIPTION:
URL:https://www.luteranamoema.org.br/tec-event/profissao-de-fe-9/
END:VEVENT
BEGIN:VEVENT
DTSTART;TZID=America/Sao_Paulo:20240728T090000
DTEND;TZID=America/Sao_Paulo:20240728T103000
DTSTAMP:20260421T052637
CREATED:20240531T151726Z
LAST-MODIFIED:20240531T151756Z
UID:5764-1722157200-1722162600@www.luteranamoema.org.br
SUMMARY:Culto - 10º Domingo após Pentecostes
DESCRIPTION:LEITURAS:Salmo: Sl 136.1-9\n1ª Leitura: Gn 9.8-17\n2ª Leitura: Ef 3.14-21\n3ª Leitura: Mc 6.45-56
URL:https://www.luteranamoema.org.br/tec-event/culto-10o-domingo-apos-pentecostes/
CATEGORIES:Culto
END:VEVENT
BEGIN:VEVENT
DTSTART;TZID=America/Sao_Paulo:20240731T200000
DTEND;TZID=America/Sao_Paulo:20240731T210000
DTSTAMP:20260421T052637
CREATED:20240705T222706Z
LAST-MODIFIED:20240705T222721Z
UID:5811-1722456000-1722459600@www.luteranamoema.org.br
SUMMARY:Ensaio do Coral
DESCRIPTION:
URL:https://www.luteranamoema.org.br/tec-event/ensaio-do-coral-19/
END:VEVENT
END:VCALENDAR