BEGIN:VCALENDAR
VERSION:2.0
PRODID:-//Luterana Moema - ECPv6.15.20//NONSGML v1.0//EN
CALSCALE:GREGORIAN
METHOD:PUBLISH
X-ORIGINAL-URL:https://www.luteranamoema.org.br
X-WR-CALDESC:Eventos para Luterana Moema
REFRESH-INTERVAL;VALUE=DURATION:PT1H
X-Robots-Tag:noindex
X-PUBLISHED-TTL:PT1H
BEGIN:VTIMEZONE
TZID:America/Sao_Paulo
BEGIN:STANDARD
TZOFFSETFROM:-0300
TZOFFSETTO:-0300
TZNAME:-03
DTSTART:20240101T000000
END:STANDARD
END:VTIMEZONE
BEGIN:VEVENT
DTSTART;TZID=America/Sao_Paulo:20251220T090000
DTEND;TZID=America/Sao_Paulo:20251220T110000
DTSTAMP:20260424T204534
CREATED:20251201T220445Z
LAST-MODIFIED:20251201T220445Z
UID:10077-1766221200-1766228400@www.luteranamoema.org.br
SUMMARY:Ensaio de Natal com as crianças
DESCRIPTION:
URL:https://www.luteranamoema.org.br/tec-event/ensaio-de-natal-com-as-criancas-5/
END:VEVENT
BEGIN:VEVENT
DTSTART;TZID=America/Sao_Paulo:20251220T090000
DTEND;TZID=America/Sao_Paulo:20251220T100000
DTSTAMP:20260424T204534
CREATED:20251201T220445Z
LAST-MODIFIED:20251201T220445Z
UID:10075-1766221200-1766224800@www.luteranamoema.org.br
SUMMARY:Distribuição de Cestas Básicas
DESCRIPTION:
URL:https://www.luteranamoema.org.br/tec-event/distribuicao-de-cestas-basicas-24/
END:VEVENT
BEGIN:VEVENT
DTSTART;TZID=America/Sao_Paulo:20251219T143000
DTEND;TZID=America/Sao_Paulo:20251219T163000
DTSTAMP:20260424T204534
CREATED:20251201T220445Z
LAST-MODIFIED:20251201T220445Z
UID:10076-1766154600-1766161800@www.luteranamoema.org.br
SUMMARY:Ensaio de Natal com as crianças
DESCRIPTION:
URL:https://www.luteranamoema.org.br/tec-event/ensaio-de-natal-com-as-criancas-4/
END:VEVENT
BEGIN:VEVENT
DTSTART;TZID=America/Sao_Paulo:20251217T200000
DTEND;TZID=America/Sao_Paulo:20251217T210000
DTSTAMP:20260424T204534
CREATED:20251201T221310Z
LAST-MODIFIED:20251201T221310Z
UID:10082-1766001600-1766005200@www.luteranamoema.org.br
SUMMARY:Ensaio do Coral
DESCRIPTION:
URL:https://www.luteranamoema.org.br/tec-event/ensaio-do-coral-75/
END:VEVENT
BEGIN:VEVENT
DTSTART;TZID=America/Sao_Paulo:20251214T103000
DTEND;TZID=America/Sao_Paulo:20251214T113000
DTSTAMP:20260424T204534
CREATED:20251201T220445Z
LAST-MODIFIED:20251201T220445Z
UID:10074-1765708200-1765711800@www.luteranamoema.org.br
SUMMARY:Assembléia Geral após o culto
DESCRIPTION:
URL:https://www.luteranamoema.org.br/tec-event/assembleia-geral-apos-o-culto/
END:VEVENT
BEGIN:VEVENT
DTSTART;TZID=America/Sao_Paulo:20251214T090000
DTEND;TZID=America/Sao_Paulo:20251214T103000
DTSTAMP:20260424T204534
CREATED:20251201T221312Z
LAST-MODIFIED:20251201T221312Z
UID:10086-1765702800-1765708200@www.luteranamoema.org.br
SUMMARY:Ensaio de Natal / Escola Dominical
DESCRIPTION:
URL:https://www.luteranamoema.org.br/tec-event/ensaio-de-natal-escola-dominical-2/
END:VEVENT
BEGIN:VEVENT
DTSTART;TZID=America/Sao_Paulo:20251214T090000
DTEND;TZID=America/Sao_Paulo:20251214T103000
DTSTAMP:20260424T204534
CREATED:20251031T133558Z
LAST-MODIFIED:20251031T135235Z
UID:9930-1765702800-1765708200@www.luteranamoema.org.br
SUMMARY:Culto - 3º Domingo de Advento
DESCRIPTION:Leituras:\nSl 146\nIs 35.1-10\nTg 5.7-11\nMt 11.2-15
URL:https://www.luteranamoema.org.br/tec-event/culto-3o-domingo-de-advento-2/
CATEGORIES:Culto
END:VEVENT
BEGIN:VEVENT
DTSTART;TZID=America/Sao_Paulo:20251213T190000
DTEND;TZID=America/Sao_Paulo:20251213T190000
DTSTAMP:20260424T204534
CREATED:20251201T220442Z
LAST-MODIFIED:20251201T220442Z
UID:10073-1765652400-1765652400@www.luteranamoema.org.br
SUMMARY:Cantata de Natal - “Entre o princípio de o fim\, Ele se fez um de nós”
DESCRIPTION:
URL:https://www.luteranamoema.org.br/tec-event/cantata-de-natal-entre-o-principio-de-o-fim-ele-se-fez-um-de-nos/
END:VEVENT
BEGIN:VEVENT
DTSTART;TZID=America/Sao_Paulo:20251212T193000
DTEND;TZID=America/Sao_Paulo:20251212T213000
DTSTAMP:20260424T204534
CREATED:20251201T220442Z
LAST-MODIFIED:20251201T220442Z
UID:10072-1765567800-1765575000@www.luteranamoema.org.br
SUMMARY:Reunião da Diretoria
DESCRIPTION:
URL:https://www.luteranamoema.org.br/tec-event/reuniao-da-diretoria-22/
END:VEVENT
BEGIN:VEVENT
DTSTART;TZID=America/Sao_Paulo:20251211T200000
DTEND;TZID=America/Sao_Paulo:20251211T210000
DTSTAMP:20260424T204534
CREATED:20251201T221310Z
LAST-MODIFIED:20251201T221310Z
UID:10084-1765483200-1765486800@www.luteranamoema.org.br
SUMMARY:Profissão de Fé
DESCRIPTION:
URL:https://www.luteranamoema.org.br/tec-event/profissao-de-fe-53/
END:VEVENT
BEGIN:VEVENT
DTSTART;TZID=America/Sao_Paulo:20251210T200000
DTEND;TZID=America/Sao_Paulo:20251210T210000
DTSTAMP:20260424T204534
CREATED:20251201T221309Z
LAST-MODIFIED:20251201T221309Z
UID:10081-1765396800-1765400400@www.luteranamoema.org.br
SUMMARY:Ensaio do Coral
DESCRIPTION:
URL:https://www.luteranamoema.org.br/tec-event/ensaio-do-coral-74/
END:VEVENT
BEGIN:VEVENT
DTSTART;TZID=America/Sao_Paulo:20251209T200000
DTEND;TZID=America/Sao_Paulo:20251209T213000
DTSTAMP:20260424T204534
CREATED:20251201T220442Z
LAST-MODIFIED:20251201T220442Z
UID:10071-1765310400-1765315800@www.luteranamoema.org.br
SUMMARY:Apresentação do Coral do Seminário
DESCRIPTION:
URL:https://www.luteranamoema.org.br/tec-event/apresentacao-do-coral-do-seminario/
END:VEVENT
BEGIN:VEVENT
DTSTART;TZID=America/Sao_Paulo:20251207T090000
DTEND;TZID=America/Sao_Paulo:20251207T103000
DTSTAMP:20260424T204534
CREATED:20251201T221310Z
LAST-MODIFIED:20251201T221310Z
UID:10085-1765098000-1765103400@www.luteranamoema.org.br
SUMMARY:Ensaio de Natal / Escola Dominical
DESCRIPTION:
URL:https://www.luteranamoema.org.br/tec-event/ensaio-de-natal-escola-dominical/
END:VEVENT
BEGIN:VEVENT
DTSTART;TZID=America/Sao_Paulo:20251207T090000
DTEND;TZID=America/Sao_Paulo:20251207T103000
DTSTAMP:20260424T204534
CREATED:20251031T133557Z
LAST-MODIFIED:20251031T135211Z
UID:9929-1765098000-1765103400@www.luteranamoema.org.br
SUMMARY:Culto - 2º Domingo de Advento
DESCRIPTION:Leituras:\nSl 72.1-7\nIs 11.1-10\nRm 15.4-13\nMt 3.1-12
URL:https://www.luteranamoema.org.br/tec-event/culto-2o-domingo-de-advento-2/
CATEGORIES:Culto
END:VEVENT
BEGIN:VEVENT
DTSTART;TZID=America/Sao_Paulo:20251206T160000
DTEND;TZID=America/Sao_Paulo:20251206T180000
DTSTAMP:20260424T204534
CREATED:20251201T220442Z
LAST-MODIFIED:20251201T220442Z
UID:10070-1765036800-1765044000@www.luteranamoema.org.br
SUMMARY:Reunião de Jovens
DESCRIPTION:
URL:https://www.luteranamoema.org.br/tec-event/reuniao-de-jovens-6/
END:VEVENT
BEGIN:VEVENT
DTSTART;TZID=America/Sao_Paulo:20251206T143000
DTEND;TZID=America/Sao_Paulo:20251206T160000
DTSTAMP:20260424T204534
CREATED:20251201T220442Z
LAST-MODIFIED:20251201T220442Z
UID:10069-1765031400-1765036800@www.luteranamoema.org.br
SUMMARY:Instrução de Confirmandos (Presencial)
DESCRIPTION:
URL:https://www.luteranamoema.org.br/tec-event/instrucao-de-confirmandos-presencial-7/
END:VEVENT
BEGIN:VEVENT
DTSTART;TZID=America/Sao_Paulo:20251204T200000
DTEND;TZID=America/Sao_Paulo:20251204T210000
DTSTAMP:20260424T204534
CREATED:20251201T221310Z
LAST-MODIFIED:20251201T221310Z
UID:10083-1764878400-1764882000@www.luteranamoema.org.br
SUMMARY:Profissão de Fé
DESCRIPTION:
URL:https://www.luteranamoema.org.br/tec-event/profissao-de-fe-52/
END:VEVENT
BEGIN:VEVENT
DTSTART;TZID=America/Sao_Paulo:20251130T090000
DTEND;TZID=America/Sao_Paulo:20251130T103000
DTSTAMP:20260424T204534
CREATED:20251031T133555Z
LAST-MODIFIED:20251031T135145Z
UID:9928-1764493200-1764498600@www.luteranamoema.org.br
SUMMARY:Culto - 1º Domingo de Advento
DESCRIPTION:Leituras:\nSl 122\nIs 2.1-5\nRm 13.(8-10)11-14\nMt 21.1-11 ou Mt 24.36-44
URL:https://www.luteranamoema.org.br/tec-event/culto-1o-domingo-de-advento-2/
CATEGORIES:Culto
END:VEVENT
BEGIN:VEVENT
DTSTART;TZID=America/Sao_Paulo:20251129T160000
DTEND;TZID=America/Sao_Paulo:20251129T180000
DTSTAMP:20260424T204534
CREATED:20251031T142139Z
LAST-MODIFIED:20251031T142140Z
UID:9980-1764432000-1764439200@www.luteranamoema.org.br
SUMMARY:Reunião de Jovens
DESCRIPTION:
URL:https://www.luteranamoema.org.br/tec-event/reuniao-de-jovens-5/
END:VEVENT
BEGIN:VEVENT
DTSTART;TZID=America/Sao_Paulo:20251129T143000
DTEND;TZID=America/Sao_Paulo:20251129T160000
DTSTAMP:20260424T204534
CREATED:20251031T142139Z
LAST-MODIFIED:20251031T142140Z
UID:9979-1764426600-1764432000@www.luteranamoema.org.br
SUMMARY:Instrução de Confirmandos (Presencial)
DESCRIPTION:
URL:https://www.luteranamoema.org.br/tec-event/instrucao-de-confirmandos-presencial-6/
END:VEVENT
BEGIN:VEVENT
DTSTART;TZID=America/Sao_Paulo:20251127T200000
DTEND;TZID=America/Sao_Paulo:20251127T210000
DTSTAMP:20260424T204534
CREATED:20251031T142139Z
LAST-MODIFIED:20251031T142140Z
UID:9978-1764273600-1764277200@www.luteranamoema.org.br
SUMMARY:Profissão de Fé
DESCRIPTION:
URL:https://www.luteranamoema.org.br/tec-event/profissao-de-fe-51/
END:VEVENT
BEGIN:VEVENT
DTSTART;TZID=America/Sao_Paulo:20251126T200000
DTEND;TZID=America/Sao_Paulo:20251126T210000
DTSTAMP:20260424T204534
CREATED:20251031T142137Z
LAST-MODIFIED:20251031T142137Z
UID:9974-1764187200-1764190800@www.luteranamoema.org.br
SUMMARY:Ensaio do Coral
DESCRIPTION:
URL:https://www.luteranamoema.org.br/tec-event/ensaio-do-coral-73/
END:VEVENT
BEGIN:VEVENT
DTSTART;TZID=America/Sao_Paulo:20251123T090000
DTEND;TZID=America/Sao_Paulo:20251123T103000
DTSTAMP:20260424T204534
CREATED:20251031T133555Z
LAST-MODIFIED:20251031T135119Z
UID:9927-1763888400-1763893800@www.luteranamoema.org.br
SUMMARY:Culto - Último Domingo do Ano Eclesiástico
DESCRIPTION:Leituras:\nSl 46\nMl 3.13-18\nCl 1.13-20\nLc 23.27-43
URL:https://www.luteranamoema.org.br/tec-event/culto-ultimo-domingo-do-ano-eclesiastico/
CATEGORIES:Culto
END:VEVENT
BEGIN:VEVENT
DTSTART;TZID=America/Sao_Paulo:20251122T160000
DTEND;TZID=America/Sao_Paulo:20251122T180000
DTSTAMP:20260424T204534
CREATED:20251031T141324Z
LAST-MODIFIED:20251031T141324Z
UID:9961-1763827200-1763834400@www.luteranamoema.org.br
SUMMARY:Grupo de Estudos
DESCRIPTION:
URL:https://www.luteranamoema.org.br/tec-event/grupo-de-estudos-2/
END:VEVENT
BEGIN:VEVENT
DTSTART;TZID=America/Sao_Paulo:20251122T090000
DTEND;TZID=America/Sao_Paulo:20251122T120000
DTSTAMP:20260424T204534
CREATED:20251031T141323Z
LAST-MODIFIED:20251031T141324Z
UID:9960-1763802000-1763812800@www.luteranamoema.org.br
SUMMARY:Reunião do Conselho Distrital - CEL Concórdia Moema
DESCRIPTION:
URL:https://www.luteranamoema.org.br/tec-event/reuniao-do-conselho-distrital-cel-concordia-moema/
END:VEVENT
BEGIN:VEVENT
DTSTART;TZID=America/Sao_Paulo:20251120T200000
DTEND;TZID=America/Sao_Paulo:20251120T210000
DTSTAMP:20260424T204534
CREATED:20251031T142139Z
LAST-MODIFIED:20251031T142140Z
UID:9977-1763668800-1763672400@www.luteranamoema.org.br
SUMMARY:Profissão de Fé
DESCRIPTION:
URL:https://www.luteranamoema.org.br/tec-event/profissao-de-fe-50/
END:VEVENT
BEGIN:VEVENT
DTSTART;VALUE=DATE:20251120
DTEND;VALUE=DATE:20251121
DTSTAMP:20260424T204534
CREATED:20251031T141323Z
LAST-MODIFIED:20251031T141631Z
UID:9959-1763596800-1763683199@www.luteranamoema.org.br
SUMMARY:Feriado Consciência Negra
DESCRIPTION:
URL:https://www.luteranamoema.org.br/tec-event/feriado-consciencia-negra-2/
END:VEVENT
BEGIN:VEVENT
DTSTART;TZID=America/Sao_Paulo:20251119T200000
DTEND;TZID=America/Sao_Paulo:20251119T210000
DTSTAMP:20260424T204534
CREATED:20251031T142137Z
LAST-MODIFIED:20251031T142137Z
UID:9973-1763582400-1763586000@www.luteranamoema.org.br
SUMMARY:Ensaio do Coral
DESCRIPTION:
URL:https://www.luteranamoema.org.br/tec-event/ensaio-do-coral-72/
END:VEVENT
BEGIN:VEVENT
DTSTART;TZID=America/Sao_Paulo:20251117T193000
DTEND;TZID=America/Sao_Paulo:20251117T213000
DTSTAMP:20260424T204534
CREATED:20251031T141323Z
LAST-MODIFIED:20251031T141324Z
UID:9958-1763407800-1763415000@www.luteranamoema.org.br
SUMMARY:Reunião da Diretoria
DESCRIPTION:
URL:https://www.luteranamoema.org.br/tec-event/reuniao-da-diretoria-21/
END:VEVENT
BEGIN:VEVENT
DTSTART;TZID=America/Sao_Paulo:20251116T090000
DTEND;TZID=America/Sao_Paulo:20251116T103000
DTSTAMP:20260424T204534
CREATED:20251031T133555Z
LAST-MODIFIED:20251031T135048Z
UID:9926-1763283600-1763289000@www.luteranamoema.org.br
SUMMARY:Culto - 23º Domingo após Pentecostes
DESCRIPTION:Leituras:\nSl 98\nMl 4.1-6\n2Ts 3.(1-5)6-13\nLc 21.5-28(29-36)
URL:https://www.luteranamoema.org.br/tec-event/culto-23o-domingo-apos-pentecostes-2/
CATEGORIES:Culto
END:VEVENT
END:VCALENDAR