BEGIN:VCALENDAR
VERSION:2.0
PRODID:-//Luterana Moema - ECPv6.15.20//NONSGML v1.0//EN
CALSCALE:GREGORIAN
METHOD:PUBLISH
X-WR-CALNAME:Luterana Moema
X-ORIGINAL-URL:https://www.luteranamoema.org.br
X-WR-CALDESC:Eventos para Luterana Moema
REFRESH-INTERVAL;VALUE=DURATION:PT1H
X-Robots-Tag:noindex
X-PUBLISHED-TTL:PT1H
BEGIN:VTIMEZONE
TZID:America/Sao_Paulo
BEGIN:STANDARD
TZOFFSETFROM:-0300
TZOFFSETTO:-0300
TZNAME:-03
DTSTART:20240101T000000
END:STANDARD
END:VTIMEZONE
BEGIN:VEVENT
DTSTART;TZID=America/Sao_Paulo:20250503T143000
DTEND;TZID=America/Sao_Paulo:20250503T160000
DTSTAMP:20260425T180550
CREATED:20250429T185438Z
LAST-MODIFIED:20250429T185438Z
UID:9407-1746282600-1746288000@www.luteranamoema.org.br
SUMMARY:Instrução de Confirmandos on-line
DESCRIPTION:
URL:https://www.luteranamoema.org.br/tec-event/instrucao-de-confirmandos-on-line-3/
END:VEVENT
BEGIN:VEVENT
DTSTART;VALUE=DATE:20250501
DTEND;VALUE=DATE:20250502
DTSTAMP:20260425T180550
CREATED:20250429T185438Z
LAST-MODIFIED:20250429T185901Z
UID:9406-1746057600-1746143999@www.luteranamoema.org.br
SUMMARY:Feriado dia do Trabalho
DESCRIPTION:
URL:https://www.luteranamoema.org.br/tec-event/feriado-dia-do-trabalho/
END:VEVENT
BEGIN:VEVENT
DTSTART;TZID=America/Sao_Paulo:20250430T200000
DTEND;TZID=America/Sao_Paulo:20250430T210000
DTSTAMP:20260425T180550
CREATED:20250331T225150Z
LAST-MODIFIED:20250331T225150Z
UID:9297-1746043200-1746046800@www.luteranamoema.org.br
SUMMARY:Ensaio do Coral
DESCRIPTION:
URL:https://www.luteranamoema.org.br/tec-event/ensaio-do-coral-47/
END:VEVENT
BEGIN:VEVENT
DTSTART;TZID=America/Sao_Paulo:20250428T193000
DTEND;TZID=America/Sao_Paulo:20250428T210000
DTSTAMP:20260425T180550
CREATED:20250331T225151Z
LAST-MODIFIED:20250331T225151Z
UID:9300-1745868600-1745874000@www.luteranamoema.org.br
SUMMARY:Reunião da Diretoria
DESCRIPTION:
URL:https://www.luteranamoema.org.br/tec-event/reuniao-da-diretoria-14/
END:VEVENT
BEGIN:VEVENT
DTSTART;TZID=America/Sao_Paulo:20250427T090000
DTEND;TZID=America/Sao_Paulo:20250427T103000
DTSTAMP:20260425T180550
CREATED:20250202T205856Z
LAST-MODIFIED:20250426T154959Z
UID:8254-1745744400-1745749800@www.luteranamoema.org.br
SUMMARY:Culto - 2º Domingo de Páscoa
DESCRIPTION:Textos bíblicos:\nSl 148;\nAt 5.12-20(21-32);\nAp 1.4-18;\nJo 20.19-31
URL:https://www.luteranamoema.org.br/tec-event/culto-2o-domingo-de-pascoa-2/
CATEGORIES:Culto
ATTACH;FMTTYPE=image/jpeg:https://www.luteranamoema.org.br/wp-content/uploads/2025/02/banner-agenda-27-04-25.jpg
END:VEVENT
BEGIN:VEVENT
DTSTART;TZID=America/Sao_Paulo:20250426T160000
DTEND;TZID=America/Sao_Paulo:20250426T180000
DTSTAMP:20260425T180550
CREATED:20250331T225150Z
LAST-MODIFIED:20250331T225150Z
UID:9298-1745683200-1745690400@www.luteranamoema.org.br
SUMMARY:Reunião dos Jovens
DESCRIPTION:
URL:https://www.luteranamoema.org.br/tec-event/reuniao-dos-jovens-6/
END:VEVENT
BEGIN:VEVENT
DTSTART;TZID=America/Sao_Paulo:20250426T143000
DTEND;TZID=America/Sao_Paulo:20250426T163000
DTSTAMP:20260425T180550
CREATED:20250331T225150Z
LAST-MODIFIED:20250331T225150Z
UID:9299-1745677800-1745685000@www.luteranamoema.org.br
SUMMARY:Instrução de Confirmandos
DESCRIPTION:
URL:https://www.luteranamoema.org.br/tec-event/instrucao-de-confirmandos-15/
END:VEVENT
BEGIN:VEVENT
DTSTART;TZID=America/Sao_Paulo:20250424T200000
DTEND;TZID=America/Sao_Paulo:20250424T210000
DTSTAMP:20260425T180550
CREATED:20250331T225214Z
LAST-MODIFIED:20250331T225930Z
UID:9305-1745524800-1745528400@www.luteranamoema.org.br
SUMMARY:Profissão de Fé
DESCRIPTION:
URL:https://www.luteranamoema.org.br/tec-event/profissao-de-fe-30/
END:VEVENT
BEGIN:VEVENT
DTSTART;TZID=America/Sao_Paulo:20250420T090000
DTEND;TZID=America/Sao_Paulo:20250420T103000
DTSTAMP:20260425T180550
CREATED:20250202T205856Z
LAST-MODIFIED:20250202T211458Z
UID:8253-1745139600-1745145000@www.luteranamoema.org.br
SUMMARY:Culto - 1º Domingo de Páscoa
DESCRIPTION:Textos bíblicos:\nSl 16;\nIs 65.17-25;\n1Co 15.19-26;\nLc 24.1-12
URL:https://www.luteranamoema.org.br/tec-event/culto-1o-domingo-de-pascoa-2/
CATEGORIES:Culto
END:VEVENT
BEGIN:VEVENT
DTSTART;TZID=America/Sao_Paulo:20250418T090000
DTEND;TZID=America/Sao_Paulo:20250418T103000
DTSTAMP:20260425T180550
CREATED:20250202T205856Z
LAST-MODIFIED:20250202T211402Z
UID:8252-1744966800-1744972200@www.luteranamoema.org.br
SUMMARY:Culto - Sexta-feira Santa
DESCRIPTION:Textos bíblicos:\nSl 22 ou Sl 31;\nIs 52.13-53.12;\nHb 4.14-16;5.7-9;\nJo 18.1-19.42 ou Jo 19.17-30
URL:https://www.luteranamoema.org.br/tec-event/culto-sexta-feira-santa-2/
CATEGORIES:Culto
END:VEVENT
BEGIN:VEVENT
DTSTART;TZID=America/Sao_Paulo:20250417T200000
DTEND;TZID=America/Sao_Paulo:20250417T210000
DTSTAMP:20260425T180550
CREATED:20250331T225214Z
LAST-MODIFIED:20250331T225214Z
UID:9304-1744920000-1744923600@www.luteranamoema.org.br
SUMMARY:Profissão de Fé
DESCRIPTION:
URL:https://www.luteranamoema.org.br/tec-event/profissao-de-fe-29/
END:VEVENT
BEGIN:VEVENT
DTSTART;TZID=America/Sao_Paulo:20250416T200000
DTEND;TZID=America/Sao_Paulo:20250416T210000
DTSTAMP:20260425T180550
CREATED:20250331T225150Z
LAST-MODIFIED:20250331T225150Z
UID:9296-1744833600-1744837200@www.luteranamoema.org.br
SUMMARY:Ensaio do Coral
DESCRIPTION:
URL:https://www.luteranamoema.org.br/tec-event/ensaio-do-coral-46/
END:VEVENT
BEGIN:VEVENT
DTSTART;TZID=America/Sao_Paulo:20250413T090000
DTEND;TZID=America/Sao_Paulo:20250413T103000
DTSTAMP:20260425T180550
CREATED:20250202T205856Z
LAST-MODIFIED:20250202T211314Z
UID:8251-1744534800-1744540200@www.luteranamoema.org.br
SUMMARY:Culto - Domingo de Ramos
DESCRIPTION:Textos bíblicos:\nSl 118.19-29 ou Sl 31.9-16;\nDt 32.36-39;\nFp 2.5-11;\nLc 22.1-23.56 ou Lc 23.1-56 [ou Lc 19.28-40] ou Jo 12.20-43
URL:https://www.luteranamoema.org.br/tec-event/culto-domingo-de-ramos-2/
CATEGORIES:Culto
END:VEVENT
BEGIN:VEVENT
DTSTART;TZID=America/Sao_Paulo:20250412T090000
DTEND;TZID=America/Sao_Paulo:20250412T170000
DTSTAMP:20260425T180550
CREATED:20250331T225147Z
LAST-MODIFIED:20250331T225147Z
UID:9292-1744448400-1744477200@www.luteranamoema.org.br
SUMMARY:ECEC com o tema “Confirmandos”
DESCRIPTION:
URL:https://www.luteranamoema.org.br/tec-event/ecec-com-o-tema-confirmandos/
END:VEVENT
BEGIN:VEVENT
DTSTART;TZID=America/Sao_Paulo:20250412T090000
DTEND;TZID=America/Sao_Paulo:20250412T100000
DTSTAMP:20260425T180550
CREATED:20250331T225147Z
LAST-MODIFIED:20250331T225147Z
UID:9293-1744448400-1744452000@www.luteranamoema.org.br
SUMMARY:Distribuição de Cestas Básicas
DESCRIPTION:
URL:https://www.luteranamoema.org.br/tec-event/distribuicao-de-cestas-basicas-16/
END:VEVENT
BEGIN:VEVENT
DTSTART;TZID=America/Sao_Paulo:20250410T200000
DTEND;TZID=America/Sao_Paulo:20250410T210000
DTSTAMP:20260425T180550
CREATED:20250331T225214Z
LAST-MODIFIED:20250331T225214Z
UID:9303-1744315200-1744318800@www.luteranamoema.org.br
SUMMARY:Profissão de Fé
DESCRIPTION:
URL:https://www.luteranamoema.org.br/tec-event/profissao-de-fe-28/
END:VEVENT
BEGIN:VEVENT
DTSTART;TZID=America/Sao_Paulo:20250409T200000
DTEND;TZID=America/Sao_Paulo:20250409T210000
DTSTAMP:20260425T180550
CREATED:20250331T225147Z
LAST-MODIFIED:20250331T225147Z
UID:9295-1744228800-1744232400@www.luteranamoema.org.br
SUMMARY:Ensaio do Coral
DESCRIPTION:
URL:https://www.luteranamoema.org.br/tec-event/ensaio-do-coral-45/
END:VEVENT
BEGIN:VEVENT
DTSTART;TZID=America/Sao_Paulo:20250406T090000
DTEND;TZID=America/Sao_Paulo:20250406T103000
DTSTAMP:20260425T180550
CREATED:20250202T205855Z
LAST-MODIFIED:20250202T211226Z
UID:8250-1743930000-1743935400@www.luteranamoema.org.br
SUMMARY:Culto - 5º Domingo na Quaresma
DESCRIPTION:Textos bíblicos:\nSl 126\nIs 43.16-21\nFp 3.(4b-7)8-14\nLc 20.9-20
URL:https://www.luteranamoema.org.br/tec-event/culto-5o-domingo-na-quaresma-2/
CATEGORIES:Culto
END:VEVENT
BEGIN:VEVENT
DTSTART;TZID=America/Sao_Paulo:20250405T143000
DTEND;TZID=America/Sao_Paulo:20250405T163000
DTSTAMP:20260425T180550
CREATED:20250331T225147Z
LAST-MODIFIED:20250331T225147Z
UID:9291-1743863400-1743870600@www.luteranamoema.org.br
SUMMARY:Instrução de Confirmandos
DESCRIPTION:
URL:https://www.luteranamoema.org.br/tec-event/instrucao-de-confirmandos-14/
END:VEVENT
BEGIN:VEVENT
DTSTART;TZID=America/Sao_Paulo:20250403T200000
DTEND;TZID=America/Sao_Paulo:20250403T210000
DTSTAMP:20260425T180550
CREATED:20250331T225213Z
LAST-MODIFIED:20250331T225213Z
UID:9302-1743710400-1743714000@www.luteranamoema.org.br
SUMMARY:Profissão de Fé
DESCRIPTION:
URL:https://www.luteranamoema.org.br/tec-event/profissao-de-fe-27/
END:VEVENT
BEGIN:VEVENT
DTSTART;TZID=America/Sao_Paulo:20250402T200000
DTEND;TZID=America/Sao_Paulo:20250402T210000
DTSTAMP:20260425T180550
CREATED:20250331T225147Z
LAST-MODIFIED:20250331T225147Z
UID:9294-1743624000-1743627600@www.luteranamoema.org.br
SUMMARY:Ensaio do Coral
DESCRIPTION:
URL:https://www.luteranamoema.org.br/tec-event/ensaio-do-coral-44/
END:VEVENT
BEGIN:VEVENT
DTSTART;TZID=America/Sao_Paulo:20250330T090000
DTEND;TZID=America/Sao_Paulo:20250330T103000
DTSTAMP:20260425T180550
CREATED:20250202T204312Z
LAST-MODIFIED:20250202T211121Z
UID:8241-1743325200-1743330600@www.luteranamoema.org.br
SUMMARY:Culto - 4º domingo na Quaresma
DESCRIPTION:Textos bíblicos:\nSl 32\nIs 12.1-6\n2Co 5.16-21\nLc 15.1-3\,11-32
URL:https://www.luteranamoema.org.br/tec-event/culto-4o-domingo-na-quaresma-2/
CATEGORIES:Culto
END:VEVENT
BEGIN:VEVENT
DTSTART;TZID=America/Sao_Paulo:20250329T160000
DTEND;TZID=America/Sao_Paulo:20250329T180000
DTSTAMP:20260425T180550
CREATED:20250309T190703Z
LAST-MODIFIED:20250309T190703Z
UID:9102-1743264000-1743271200@www.luteranamoema.org.br
SUMMARY:Reunião dos Jovens
DESCRIPTION:
URL:https://www.luteranamoema.org.br/tec-event/reuniao-dos-jovens-5/
END:VEVENT
BEGIN:VEVENT
DTSTART;TZID=America/Sao_Paulo:20250329T143000
DTEND;TZID=America/Sao_Paulo:20250329T163000
DTSTAMP:20260425T180550
CREATED:20250309T191513Z
LAST-MODIFIED:20250309T191513Z
UID:9111-1743258600-1743265800@www.luteranamoema.org.br
SUMMARY:Instrução de Confirmandos
DESCRIPTION:
URL:https://www.luteranamoema.org.br/tec-event/instrucao-de-confirmandos-13/
END:VEVENT
BEGIN:VEVENT
DTSTART;TZID=America/Sao_Paulo:20250327T200000
DTEND;TZID=America/Sao_Paulo:20250327T210000
DTSTAMP:20260425T180550
CREATED:20250309T190702Z
LAST-MODIFIED:20250309T190702Z
UID:9099-1743105600-1743109200@www.luteranamoema.org.br
SUMMARY:Profissão de Fé
DESCRIPTION:
URL:https://www.luteranamoema.org.br/tec-event/profissao-de-fe-26/
END:VEVENT
BEGIN:VEVENT
DTSTART;TZID=America/Sao_Paulo:20250326T200000
DTEND;TZID=America/Sao_Paulo:20250326T210000
DTSTAMP:20260425T180550
CREATED:20250309T191511Z
LAST-MODIFIED:20250309T191511Z
UID:9108-1743019200-1743022800@www.luteranamoema.org.br
SUMMARY:Ensaio do Coral
DESCRIPTION:
URL:https://www.luteranamoema.org.br/tec-event/ensaio-do-coral-43/
END:VEVENT
BEGIN:VEVENT
DTSTART;TZID=America/Sao_Paulo:20250323T090000
DTEND;TZID=America/Sao_Paulo:20250323T103000
DTSTAMP:20260425T180550
CREATED:20250202T204312Z
LAST-MODIFIED:20250202T204342Z
UID:8240-1742720400-1742725800@www.luteranamoema.org.br
SUMMARY:Culto Hora Luterana
DESCRIPTION:
URL:https://www.luteranamoema.org.br/tec-event/culto-hora-luterana/
CATEGORIES:Culto
END:VEVENT
BEGIN:VEVENT
DTSTART;TZID=America/Sao_Paulo:20250322T143000
DTEND;TZID=America/Sao_Paulo:20250322T163000
DTSTAMP:20260425T180550
CREATED:20250309T191511Z
LAST-MODIFIED:20250309T191511Z
UID:9110-1742653800-1742661000@www.luteranamoema.org.br
SUMMARY:Instrução de Confirmandos
DESCRIPTION:
URL:https://www.luteranamoema.org.br/tec-event/instrucao-de-confirmandos-12/
END:VEVENT
BEGIN:VEVENT
DTSTART;TZID=America/Sao_Paulo:20250321T000000
DTEND;TZID=America/Sao_Paulo:20250323T000000
DTSTAMP:20260425T180550
CREATED:20250309T190703Z
LAST-MODIFIED:20250309T190703Z
UID:9101-1742515200-1742688000@www.luteranamoema.org.br
SUMMARY:Encontro Regional da LSLB - Santa Isabel - SP
DESCRIPTION:
URL:https://www.luteranamoema.org.br/tec-event/encontro-regional-da-lslb-santa-isabel-sp/
END:VEVENT
BEGIN:VEVENT
DTSTART;TZID=America/Sao_Paulo:20250320T200000
DTEND;TZID=America/Sao_Paulo:20250320T210000
DTSTAMP:20260425T180550
CREATED:20250309T190702Z
LAST-MODIFIED:20250309T190702Z
UID:9098-1742500800-1742504400@www.luteranamoema.org.br
SUMMARY:Profissão de Fé
DESCRIPTION:
URL:https://www.luteranamoema.org.br/tec-event/profissao-de-fe-25/
END:VEVENT
END:VCALENDAR