BEGIN:VCALENDAR
VERSION:2.0
PRODID:-//Luterana Moema - ECPv6.15.20//NONSGML v1.0//EN
CALSCALE:GREGORIAN
METHOD:PUBLISH
X-WR-CALNAME:Luterana Moema
X-ORIGINAL-URL:https://www.luteranamoema.org.br
X-WR-CALDESC:Eventos para Luterana Moema
REFRESH-INTERVAL;VALUE=DURATION:PT1H
X-Robots-Tag:noindex
X-PUBLISHED-TTL:PT1H
BEGIN:VTIMEZONE
TZID:America/Sao_Paulo
BEGIN:STANDARD
TZOFFSETFROM:-0300
TZOFFSETTO:-0300
TZNAME:-03
DTSTART:20240101T000000
END:STANDARD
END:VTIMEZONE
BEGIN:VEVENT
DTSTART;TZID=America/Sao_Paulo:20250731T200000
DTEND;TZID=America/Sao_Paulo:20250731T210000
DTSTAMP:20260425T102609
CREATED:20250705T233443Z
LAST-MODIFIED:20250705T233443Z
UID:9607-1753992000-1753995600@www.luteranamoema.org.br
SUMMARY:Profissão de Fé
DESCRIPTION:
URL:https://www.luteranamoema.org.br/tec-event/profissao-de-fe-40/
END:VEVENT
BEGIN:VEVENT
DTSTART;TZID=America/Sao_Paulo:20250730T200000
DTEND;TZID=America/Sao_Paulo:20250730T210000
DTSTAMP:20260425T102609
CREATED:20250705T233050Z
LAST-MODIFIED:20250705T233105Z
UID:9596-1753905600-1753909200@www.luteranamoema.org.br
SUMMARY:Ensaio do Coral
DESCRIPTION:
URL:https://www.luteranamoema.org.br/tec-event/ensaio-do-coral-57/
END:VEVENT
BEGIN:VEVENT
DTSTART;TZID=America/Sao_Paulo:20250727T090000
DTEND;TZID=America/Sao_Paulo:20250727T103000
DTSTAMP:20260425T102609
CREATED:20250705T224302Z
LAST-MODIFIED:20250705T224707Z
UID:9567-1753606800-1753612200@www.luteranamoema.org.br
SUMMARY:Culto - 7º Domingo após Pentecostes
DESCRIPTION:Textos bíblicos:\nSl 138;\nGn 18.(17-19)20-33;\nCl 2.6-15(16-19);\nLc 11.1-13
URL:https://www.luteranamoema.org.br/tec-event/culto-7o-domingo-apos-pentecostes-2/
CATEGORIES:Culto
END:VEVENT
BEGIN:VEVENT
DTSTART;TZID=America/Sao_Paulo:20250724T200000
DTEND;TZID=America/Sao_Paulo:20250724T210000
DTSTAMP:20260425T102609
CREATED:20250705T233443Z
LAST-MODIFIED:20250705T233443Z
UID:9606-1753387200-1753390800@www.luteranamoema.org.br
SUMMARY:Profissão de Fé
DESCRIPTION:
URL:https://www.luteranamoema.org.br/tec-event/profissao-de-fe-39/
END:VEVENT
BEGIN:VEVENT
DTSTART;TZID=America/Sao_Paulo:20250723T200000
DTEND;TZID=America/Sao_Paulo:20250723T210000
DTSTAMP:20260425T102609
CREATED:20250705T233050Z
LAST-MODIFIED:20250705T233105Z
UID:9595-1753300800-1753304400@www.luteranamoema.org.br
SUMMARY:Ensaio do Coral
DESCRIPTION:
URL:https://www.luteranamoema.org.br/tec-event/ensaio-do-coral-56/
END:VEVENT
BEGIN:VEVENT
DTSTART;TZID=America/Sao_Paulo:20250721T193000
DTEND;TZID=America/Sao_Paulo:20250721T213000
DTSTAMP:20260425T102609
CREATED:20250705T233047Z
LAST-MODIFIED:20250705T233047Z
UID:9590-1753126200-1753133400@www.luteranamoema.org.br
SUMMARY:Reunião da Diretoria
DESCRIPTION:
URL:https://www.luteranamoema.org.br/tec-event/reuniao-da-diretoria-17/
END:VEVENT
BEGIN:VEVENT
DTSTART;TZID=America/Sao_Paulo:20250720T090000
DTEND;TZID=America/Sao_Paulo:20250720T103000
DTSTAMP:20260425T102609
CREATED:20250705T224302Z
LAST-MODIFIED:20250705T224641Z
UID:9566-1753002000-1753007400@www.luteranamoema.org.br
SUMMARY:Culto - 6º Domingo após Pentecostes
DESCRIPTION:Textos bíblicos:\nSl 27.(1-6)7-14;\nGn 18.1-10a(10b-14);\nCl 1.21-29;\nLc 10.38-42
URL:https://www.luteranamoema.org.br/tec-event/culto-6o-domingo-apos-pentecostes-2/
CATEGORIES:Culto
END:VEVENT
BEGIN:VEVENT
DTSTART;TZID=America/Sao_Paulo:20250719T090000
DTEND;TZID=America/Sao_Paulo:20250719T120000
DTSTAMP:20260425T102609
CREATED:20250705T233047Z
LAST-MODIFIED:20250705T233047Z
UID:9591-1752915600-1752926400@www.luteranamoema.org.br
SUMMARY:Reunião do Conselho Distrital (Online)
DESCRIPTION:
URL:https://www.luteranamoema.org.br/tec-event/reuniao-do-conselho-distrital-online/
END:VEVENT
BEGIN:VEVENT
DTSTART;TZID=America/Sao_Paulo:20250719T090000
DTEND;TZID=America/Sao_Paulo:20250719T100000
DTSTAMP:20260425T102609
CREATED:20250705T233047Z
LAST-MODIFIED:20250705T233047Z
UID:9592-1752915600-1752919200@www.luteranamoema.org.br
SUMMARY:Distribuição de Cestas Básicas
DESCRIPTION:
URL:https://www.luteranamoema.org.br/tec-event/distribuicao-de-cestas-basicas-19/
END:VEVENT
BEGIN:VEVENT
DTSTART;TZID=America/Sao_Paulo:20250717T200000
DTEND;TZID=America/Sao_Paulo:20250717T210000
DTSTAMP:20260425T102609
CREATED:20250705T233050Z
LAST-MODIFIED:20250705T233105Z
UID:9598-1752782400-1752786000@www.luteranamoema.org.br
SUMMARY:Profissão de Fé
DESCRIPTION:
URL:https://www.luteranamoema.org.br/tec-event/profissao-de-fe-38/
END:VEVENT
BEGIN:VEVENT
DTSTART;TZID=America/Sao_Paulo:20250716T200000
DTEND;TZID=America/Sao_Paulo:20250716T210000
DTSTAMP:20260425T102609
CREATED:20250705T233049Z
LAST-MODIFIED:20250705T233105Z
UID:9594-1752696000-1752699600@www.luteranamoema.org.br
SUMMARY:Ensaio do Coral
DESCRIPTION:
URL:https://www.luteranamoema.org.br/tec-event/ensaio-do-coral-55/
END:VEVENT
BEGIN:VEVENT
DTSTART;TZID=America/Sao_Paulo:20250713T090000
DTEND;TZID=America/Sao_Paulo:20250713T103000
DTSTAMP:20260425T102609
CREATED:20250705T224302Z
LAST-MODIFIED:20250705T224617Z
UID:9565-1752397200-1752402600@www.luteranamoema.org.br
SUMMARY:Culto - 5º Domingo após Pentecostes
DESCRIPTION:Textos bíblicos:\nSl 41;\nLv (18.1-5); 19.9-18;\nCl 1.1-14;\nLc 10.25-37
URL:https://www.luteranamoema.org.br/tec-event/culto-5o-domingo-apos-pentecostes-2/
CATEGORIES:Culto
END:VEVENT
BEGIN:VEVENT
DTSTART;TZID=America/Sao_Paulo:20250710T200000
DTEND;TZID=America/Sao_Paulo:20250710T210000
DTSTAMP:20260425T102609
CREATED:20250705T233050Z
LAST-MODIFIED:20250705T233105Z
UID:9597-1752177600-1752181200@www.luteranamoema.org.br
SUMMARY:Profissão de Fé
DESCRIPTION:
URL:https://www.luteranamoema.org.br/tec-event/profissao-de-fe-37/
END:VEVENT
BEGIN:VEVENT
DTSTART;TZID=America/Sao_Paulo:20250706T090000
DTEND;TZID=America/Sao_Paulo:20250706T103000
DTSTAMP:20260425T102609
CREATED:20250705T224302Z
LAST-MODIFIED:20250705T224550Z
UID:9564-1751792400-1751797800@www.luteranamoema.org.br
SUMMARY:Culto - 4º Domingo após Pentecostes
DESCRIPTION:Textos bíblicos:\nSl 66.1-7;\nIs 66.10-14;\nGl 6.1-10\,14-18;\nLc 10.1-20
URL:https://www.luteranamoema.org.br/tec-event/culto-4o-domingo-apos-pentecostes-2/
CATEGORIES:Culto
END:VEVENT
BEGIN:VEVENT
DTSTART;TZID=America/Sao_Paulo:20250705T160000
DTEND;TZID=America/Sao_Paulo:20250705T210000
DTSTAMP:20260425T102609
CREATED:20250705T233047Z
LAST-MODIFIED:20250705T233047Z
UID:9589-1751731200-1751749200@www.luteranamoema.org.br
SUMMARY:Festa Junina - JELB/DP - CEL Concórdia
DESCRIPTION:
URL:https://www.luteranamoema.org.br/tec-event/festa-junina-jelb-dp-cel-concordia/
END:VEVENT
BEGIN:VEVENT
DTSTART;TZID=America/Sao_Paulo:20250702T200000
DTEND;TZID=America/Sao_Paulo:20250702T210000
DTSTAMP:20260425T102609
CREATED:20250705T233047Z
LAST-MODIFIED:20250705T233047Z
UID:9593-1751486400-1751490000@www.luteranamoema.org.br
SUMMARY:Ensaio do Coral
DESCRIPTION:
URL:https://www.luteranamoema.org.br/tec-event/ensaio-do-coral-54/
END:VEVENT
BEGIN:VEVENT
DTSTART;TZID=America/Sao_Paulo:20250630T160000
DTEND;TZID=America/Sao_Paulo:20250630T180000
DTSTAMP:20260425T102609
CREATED:20250802T220758Z
LAST-MODIFIED:20250802T220758Z
UID:9639-1751299200-1751306400@www.luteranamoema.org.br
SUMMARY:Reunião de Jovens
DESCRIPTION:
URL:https://www.luteranamoema.org.br/tec-event/reuniao-de-jovens-2/
END:VEVENT
BEGIN:VEVENT
DTSTART;TZID=America/Sao_Paulo:20250629T100000
DTEND;TZID=America/Sao_Paulo:20250629T113000
DTSTAMP:20260425T102609
CREATED:20250602T195641Z
LAST-MODIFIED:20250602T195641Z
UID:9535-1751191200-1751196600@www.luteranamoema.org.br
SUMMARY:Culto de aniversário da IELB\, 121 anos- CEL Bom Pastor\, Limeira - SP
DESCRIPTION:
URL:https://www.luteranamoema.org.br/tec-event/culto-de-aniversario-da-ielb-121-anos-cel-bom-pastor-limeira-sp/
END:VEVENT
BEGIN:VEVENT
DTSTART;TZID=America/Sao_Paulo:20250629T090000
DTEND;TZID=America/Sao_Paulo:20250629T103000
DTSTAMP:20260425T102609
CREATED:20250602T190242Z
LAST-MODIFIED:20250602T190242Z
UID:9525-1751187600-1751193000@www.luteranamoema.org.br
SUMMARY:Culto - 3º Domingo após Pentecostes
DESCRIPTION:Textos bíblicos:Sl 16;\n1Rs 19.9b-21;\nGl 5.1\,13-25;\nJoão 11.17-27
URL:https://www.luteranamoema.org.br/tec-event/culto-3o-domingo-apos-pentecostes-2/
CATEGORIES:Culto
END:VEVENT
BEGIN:VEVENT
DTSTART;TZID=America/Sao_Paulo:20250628T160000
DTEND;TZID=America/Sao_Paulo:20250628T180000
DTSTAMP:20260425T102609
CREATED:20250602T195641Z
LAST-MODIFIED:20250602T195641Z
UID:9534-1751126400-1751133600@www.luteranamoema.org.br
SUMMARY:Reunião dos Jovens
DESCRIPTION:
URL:https://www.luteranamoema.org.br/tec-event/reuniao-dos-jovens-7/
END:VEVENT
BEGIN:VEVENT
DTSTART;TZID=America/Sao_Paulo:20250628T143000
DTEND;TZID=America/Sao_Paulo:20250628T160000
DTSTAMP:20260425T102609
CREATED:20250602T195917Z
LAST-MODIFIED:20250602T195917Z
UID:9541-1751121000-1751126400@www.luteranamoema.org.br
SUMMARY:Instrução de Confirmandos
DESCRIPTION:
URL:https://www.luteranamoema.org.br/tec-event/instrucao-de-confirmandos-17/
END:VEVENT
BEGIN:VEVENT
DTSTART;TZID=America/Sao_Paulo:20250626T200000
DTEND;TZID=America/Sao_Paulo:20250626T210000
DTSTAMP:20260425T102609
CREATED:20250602T195919Z
LAST-MODIFIED:20250602T195919Z
UID:9546-1750968000-1750971600@www.luteranamoema.org.br
SUMMARY:Profissão de Fé
DESCRIPTION:
URL:https://www.luteranamoema.org.br/tec-event/profissao-de-fe-36/
END:VEVENT
BEGIN:VEVENT
DTSTART;TZID=America/Sao_Paulo:20250625T200000
DTEND;TZID=America/Sao_Paulo:20250625T210000
DTSTAMP:20260425T102609
CREATED:20250602T195919Z
LAST-MODIFIED:20250602T195919Z
UID:9544-1750881600-1750885200@www.luteranamoema.org.br
SUMMARY:Ensaio do Coral
DESCRIPTION:
URL:https://www.luteranamoema.org.br/tec-event/ensaio-do-coral-53/
END:VEVENT
BEGIN:VEVENT
DTSTART;TZID=America/Sao_Paulo:20250622T090000
DTEND;TZID=America/Sao_Paulo:20250622T103000
DTSTAMP:20260425T102609
CREATED:20250602T190242Z
LAST-MODIFIED:20250602T190242Z
UID:9524-1750582800-1750588200@www.luteranamoema.org.br
SUMMARY:Culto - 2º Domingo após Pentecostes
DESCRIPTION:Textos bíblicos:Sl 81.1-10\nIs 65.1-9\n2Co 4.5-12\nLc 4.16-21
URL:https://www.luteranamoema.org.br/tec-event/culto-2o-domingo-apos-pentecostes-2/
CATEGORIES:Culto
END:VEVENT
BEGIN:VEVENT
DTSTART;TZID=America/Sao_Paulo:20250621T143000
DTEND;TZID=America/Sao_Paulo:20250621T160000
DTSTAMP:20260425T102609
CREATED:20250602T195917Z
LAST-MODIFIED:20250602T195917Z
UID:9540-1750516200-1750521600@www.luteranamoema.org.br
SUMMARY:Instrução de Confirmandos on-line
DESCRIPTION:
URL:https://www.luteranamoema.org.br/tec-event/instrucao-de-confirmandos-on-line-6/
END:VEVENT
BEGIN:VEVENT
DTSTART;TZID=America/Sao_Paulo:20250618T200000
DTEND;TZID=America/Sao_Paulo:20250618T210000
DTSTAMP:20260425T102609
CREATED:20250602T195919Z
LAST-MODIFIED:20250602T195919Z
UID:9543-1750276800-1750280400@www.luteranamoema.org.br
SUMMARY:Ensaio do Coral
DESCRIPTION:
URL:https://www.luteranamoema.org.br/tec-event/ensaio-do-coral-52/
END:VEVENT
BEGIN:VEVENT
DTSTART;TZID=America/Sao_Paulo:20250616T193000
DTEND;TZID=America/Sao_Paulo:20250616T213000
DTSTAMP:20260425T102609
CREATED:20250602T195641Z
LAST-MODIFIED:20250602T195641Z
UID:9533-1750102200-1750109400@www.luteranamoema.org.br
SUMMARY:Reunião da Diretoria
DESCRIPTION:
URL:https://www.luteranamoema.org.br/tec-event/reuniao-da-diretoria-16/
END:VEVENT
BEGIN:VEVENT
DTSTART;TZID=America/Sao_Paulo:20250615T090000
DTEND;TZID=America/Sao_Paulo:20250615T103000
DTSTAMP:20260425T102609
CREATED:20250602T190242Z
LAST-MODIFIED:20250602T190242Z
UID:9523-1749978000-1749983400@www.luteranamoema.org.br
SUMMARY:Culto - Santíssima Trindade
DESCRIPTION:Textos bíblicos:Sl 8;\nPv 8.1-4\,22-31;\nAt 2.14a\,22-36;\nJo 8.48-59
URL:https://www.luteranamoema.org.br/tec-event/culto-santissima-trindade-2/
CATEGORIES:Culto
END:VEVENT
BEGIN:VEVENT
DTSTART;TZID=America/Sao_Paulo:20250614T160000
DTEND;TZID=America/Sao_Paulo:20250614T180000
DTSTAMP:20260425T102609
CREATED:20250602T195639Z
LAST-MODIFIED:20250602T195639Z
UID:9532-1749916800-1749924000@www.luteranamoema.org.br
SUMMARY:Encontro das Mulheres
DESCRIPTION:
URL:https://www.luteranamoema.org.br/tec-event/encontro-das-mulheres/
END:VEVENT
BEGIN:VEVENT
DTSTART;TZID=America/Sao_Paulo:20250614T143000
DTEND;TZID=America/Sao_Paulo:20250614T160000
DTSTAMP:20260425T102609
CREATED:20250602T195917Z
LAST-MODIFIED:20250602T195917Z
UID:9539-1749911400-1749916800@www.luteranamoema.org.br
SUMMARY:Instrução de Confirmandos on-line
DESCRIPTION:
URL:https://www.luteranamoema.org.br/tec-event/instrucao-de-confirmandos-on-line-5/
END:VEVENT
END:VCALENDAR