BEGIN:VCALENDAR
VERSION:2.0
PRODID:-//Luterana Moema - ECPv6.15.20//NONSGML v1.0//EN
CALSCALE:GREGORIAN
METHOD:PUBLISH
X-WR-CALNAME:Luterana Moema
X-ORIGINAL-URL:https://www.luteranamoema.org.br
X-WR-CALDESC:Eventos para Luterana Moema
REFRESH-INTERVAL;VALUE=DURATION:PT1H
X-Robots-Tag:noindex
X-PUBLISHED-TTL:PT1H
BEGIN:VTIMEZONE
TZID:America/Sao_Paulo
BEGIN:STANDARD
TZOFFSETFROM:-0300
TZOFFSETTO:-0300
TZNAME:-03
DTSTART:20230101T000000
END:STANDARD
END:VTIMEZONE
BEGIN:VEVENT
DTSTART;TZID=America/Sao_Paulo:20240801T200000
DTEND;TZID=America/Sao_Paulo:20240801T210000
DTSTAMP:20260421T054422
CREATED:20240728T215154Z
LAST-MODIFIED:20240728T215209Z
UID:5849-1722542400-1722546000@www.luteranamoema.org.br
SUMMARY:Profissão de Fé
DESCRIPTION:
URL:https://www.luteranamoema.org.br/tec-event/profissao-de-fe-10/
END:VEVENT
BEGIN:VEVENT
DTSTART;TZID=America/Sao_Paulo:20240803T080000
DTEND;TZID=America/Sao_Paulo:20240803T110000
DTSTAMP:20260421T054422
CREATED:20240728T215152Z
LAST-MODIFIED:20240728T215152Z
UID:5842-1722672000-1722682800@www.luteranamoema.org.br
SUMMARY:Reunião das áreas da Igreja com palestra do pastor Paulo Teixeira
DESCRIPTION:
URL:https://www.luteranamoema.org.br/tec-event/reuniao-das-areas-da-igreja-com-palestra-do-pastor-paulo-teixeira/
END:VEVENT
BEGIN:VEVENT
DTSTART;TZID=America/Sao_Paulo:20240804T090000
DTEND;TZID=America/Sao_Paulo:20240804T103000
DTSTAMP:20260421T054422
CREATED:20240531T151726Z
LAST-MODIFIED:20240803T232210Z
UID:5765-1722762000-1722767400@www.luteranamoema.org.br
SUMMARY:Culto - 11º Domingo após Pentecostes
DESCRIPTION:LEITURAS:\nSalmo: Sl 145.10-21\n1ª Leitura: Êx 16.2-15\n2ª Leitura: Ef 4.1-16\n3ª Leitura: Jo 6.22-35
URL:https://www.luteranamoema.org.br/tec-event/culto-11o-domingo-apos-pentecostes-dia-dos-pais/
CATEGORIES:Culto
ATTACH;FMTTYPE=image/jpeg:https://www.luteranamoema.org.br/wp-content/uploads/2024/08/banner-agenda-04-08-24.jpg
END:VEVENT
BEGIN:VEVENT
DTSTART;TZID=America/Sao_Paulo:20240804T100000
DTEND;TZID=America/Sao_Paulo:20240804T113000
DTSTAMP:20260421T054422
CREATED:20240531T151726Z
LAST-MODIFIED:20240531T151756Z
UID:5766-1722765600-1722771000@www.luteranamoema.org.br
SUMMARY:Culto em Nova Odessa
DESCRIPTION:LEITURAS:Salmo: Sl 145.10-21\n1ª Leitura: Êx 16.2-15\n2ª Leitura: Ef 4.1-16\n3ª Leitura: Jo 6.22-35
URL:https://www.luteranamoema.org.br/tec-event/culto-em-nova-odessa-12/
CATEGORIES:Culto
END:VEVENT
BEGIN:VEVENT
DTSTART;TZID=America/Sao_Paulo:20240804T150000
DTEND;TZID=America/Sao_Paulo:20240804T180000
DTSTAMP:20260421T054422
CREATED:20240728T215152Z
LAST-MODIFIED:20240728T215152Z
UID:5840-1722783600-1722794400@www.luteranamoema.org.br
SUMMARY:Reunião de Pastores DP
DESCRIPTION:
URL:https://www.luteranamoema.org.br/tec-event/reuniao-de-pastores-dp/
END:VEVENT
BEGIN:VEVENT
DTSTART;TZID=America/Sao_Paulo:20240807T200000
DTEND;TZID=America/Sao_Paulo:20240807T210000
DTSTAMP:20260421T054422
CREATED:20240728T215154Z
LAST-MODIFIED:20240728T215209Z
UID:5846-1723060800-1723064400@www.luteranamoema.org.br
SUMMARY:Ensaio do Coral
DESCRIPTION:
URL:https://www.luteranamoema.org.br/tec-event/ensaio-do-coral-20/
END:VEVENT
BEGIN:VEVENT
DTSTART;TZID=America/Sao_Paulo:20240808T200000
DTEND;TZID=America/Sao_Paulo:20240808T210000
DTSTAMP:20260421T054422
CREATED:20240728T220005Z
LAST-MODIFIED:20240728T220005Z
UID:5857-1723147200-1723150800@www.luteranamoema.org.br
SUMMARY:Profissão de Fé
DESCRIPTION:
URL:https://www.luteranamoema.org.br/tec-event/profissao-de-fe-11/
END:VEVENT
BEGIN:VEVENT
DTSTART;VALUE=DATE:20240811
DTEND;VALUE=DATE:20240812
DTSTAMP:20260421T054422
CREATED:20240728T212958Z
LAST-MODIFIED:20240728T212958Z
UID:5836-1723334400-1723420799@www.luteranamoema.org.br
SUMMARY:Dia dos Pais
DESCRIPTION:
URL:https://www.luteranamoema.org.br/tec-event/dia-dos-pais/
END:VEVENT
BEGIN:VEVENT
DTSTART;TZID=America/Sao_Paulo:20240811T090000
DTEND;TZID=America/Sao_Paulo:20240811T103000
DTSTAMP:20260421T054422
CREATED:20240531T151726Z
LAST-MODIFIED:20240811T120525Z
UID:5767-1723366800-1723372200@www.luteranamoema.org.br
SUMMARY:Culto - 12º Domingo após Pentecostes
DESCRIPTION:LEITURAS:\nSalmo: Sl 34.1-8\n1ª Leitura: 1Rs 19.1-8\n2ª Leitura: Ef 4.17-5.2\n3ª Leitura: Jo 6.35-51
URL:https://www.luteranamoema.org.br/tec-event/culto-12o-domingo-apos-pentecostes/
CATEGORIES:Culto
ATTACH;FMTTYPE=image/jpeg:https://www.luteranamoema.org.br/wp-content/uploads/2024/08/banner-agenda-11-08-24.jpg
END:VEVENT
BEGIN:VEVENT
DTSTART;TZID=America/Sao_Paulo:20240815T200000
DTEND;TZID=America/Sao_Paulo:20240815T210000
DTSTAMP:20260421T054422
CREATED:20240728T220005Z
LAST-MODIFIED:20240728T220005Z
UID:5858-1723752000-1723755600@www.luteranamoema.org.br
SUMMARY:Profissão de Fé
DESCRIPTION:
URL:https://www.luteranamoema.org.br/tec-event/profissao-de-fe-12/
END:VEVENT
BEGIN:VEVENT
DTSTART;TZID=America/Sao_Paulo:20240817T090000
DTEND;TZID=America/Sao_Paulo:20240817T100000
DTSTAMP:20260421T054422
CREATED:20240728T215152Z
LAST-MODIFIED:20240728T215152Z
UID:5844-1723885200-1723888800@www.luteranamoema.org.br
SUMMARY:Distribuição de Cestas Básicas
DESCRIPTION:
URL:https://www.luteranamoema.org.br/tec-event/distribuicao-de-cestas-basicas-8/
END:VEVENT
BEGIN:VEVENT
DTSTART;TZID=America/Sao_Paulo:20240817T100000
DTEND;TZID=America/Sao_Paulo:20240817T113000
DTSTAMP:20260421T054422
CREATED:20240728T215154Z
LAST-MODIFIED:20240728T215209Z
UID:5845-1723888800-1723894200@www.luteranamoema.org.br
SUMMARY:Instrução de Confirmandos
DESCRIPTION:
URL:https://www.luteranamoema.org.br/tec-event/instrucao-de-confirmandos-6/
END:VEVENT
BEGIN:VEVENT
DTSTART;TZID=America/Sao_Paulo:20240818T090000
DTEND;TZID=America/Sao_Paulo:20240818T103000
DTSTAMP:20260421T054422
CREATED:20240531T151726Z
LAST-MODIFIED:20240531T151756Z
UID:5768-1723971600-1723977000@www.luteranamoema.org.br
SUMMARY:Culto - 13º Domingo após Pentecostes
DESCRIPTION:LEITURAS:Salmo: Sl 34.12-22\n1ª Leitura: Pv 9.1-10 ou\nJs 24.1-2a\,14-18\n2ª Leitura: Ef 5.6-21\n3ª Leitura: Jo 6.51-69
URL:https://www.luteranamoema.org.br/tec-event/culto-13o-domingo-apos-pentecostes/
CATEGORIES:Culto
END:VEVENT
BEGIN:VEVENT
DTSTART;TZID=America/Sao_Paulo:20240818T103000
DTEND;TZID=America/Sao_Paulo:20240818T113000
DTSTAMP:20260421T054422
CREATED:20240728T215152Z
LAST-MODIFIED:20240728T215152Z
UID:5841-1723977000-1723980600@www.luteranamoema.org.br
SUMMARY:Reunião dos Jovens
DESCRIPTION:
URL:https://www.luteranamoema.org.br/tec-event/reuniao-dos-jovens-2/
END:VEVENT
BEGIN:VEVENT
DTSTART;TZID=America/Sao_Paulo:20240819T193000
DTEND;TZID=America/Sao_Paulo:20240819T213000
DTSTAMP:20260421T054422
CREATED:20240728T215152Z
LAST-MODIFIED:20240728T215152Z
UID:5843-1724095800-1724103000@www.luteranamoema.org.br
SUMMARY:Reunião da Diretoria
DESCRIPTION:
URL:https://www.luteranamoema.org.br/tec-event/reuniao-da-diretoria-7/
END:VEVENT
BEGIN:VEVENT
DTSTART;TZID=America/Sao_Paulo:20240821T200000
DTEND;TZID=America/Sao_Paulo:20240821T210000
DTSTAMP:20260421T054422
CREATED:20240728T215154Z
LAST-MODIFIED:20240728T215209Z
UID:5847-1724270400-1724274000@www.luteranamoema.org.br
SUMMARY:Ensaio do Coral
DESCRIPTION:
URL:https://www.luteranamoema.org.br/tec-event/ensaio-do-coral-21/
END:VEVENT
BEGIN:VEVENT
DTSTART;TZID=America/Sao_Paulo:20240822T200000
DTEND;TZID=America/Sao_Paulo:20240822T210000
DTSTAMP:20260421T054422
CREATED:20240728T220005Z
LAST-MODIFIED:20240728T220005Z
UID:5859-1724356800-1724360400@www.luteranamoema.org.br
SUMMARY:Profissão de Fé
DESCRIPTION:
URL:https://www.luteranamoema.org.br/tec-event/profissao-de-fe-13/
END:VEVENT
BEGIN:VEVENT
DTSTART;TZID=America/Sao_Paulo:20240825T100000
DTEND;TZID=America/Sao_Paulo:20240825T113000
DTSTAMP:20260421T054422
CREATED:20240531T184038Z
LAST-MODIFIED:20240728T212525Z
UID:5777-1724580000-1724585400@www.luteranamoema.org.br
SUMMARY:Culto Distrital - NÃO HAVERÁ CULTO NA CELC
DESCRIPTION:14º Domingo após Pentecostes \nCulto Distrital na congregação Redentor. \nNão haverá culto presencial nem transmissão neste dia. \nLEITURAS:\nSalmo: Sl 14\n1ª Leitura: Is 29.11-19\n2ª Leitura: Ef 5.21-33\n3ª Leitura: Mc 7.1-13
URL:https://www.luteranamoema.org.br/tec-event/culto-14o-domingo-apos-pentecostes/
CATEGORIES:Culto
END:VEVENT
BEGIN:VEVENT
DTSTART;TZID=America/Sao_Paulo:20240828T200000
DTEND;TZID=America/Sao_Paulo:20240828T210000
DTSTAMP:20260421T054422
CREATED:20240728T215154Z
LAST-MODIFIED:20240728T215209Z
UID:5848-1724875200-1724878800@www.luteranamoema.org.br
SUMMARY:Ensaio do Coral
DESCRIPTION:
URL:https://www.luteranamoema.org.br/tec-event/ensaio-do-coral-22/
END:VEVENT
BEGIN:VEVENT
DTSTART;TZID=America/Sao_Paulo:20240831T100000
DTEND;TZID=America/Sao_Paulo:20240831T113000
DTSTAMP:20260421T054422
CREATED:20240728T220005Z
LAST-MODIFIED:20240728T220005Z
UID:5860-1725098400-1725103800@www.luteranamoema.org.br
SUMMARY:Instrução de Confirmandos
DESCRIPTION:
URL:https://www.luteranamoema.org.br/tec-event/instrucao-de-confirmandos-7/
END:VEVENT
BEGIN:VEVENT
DTSTART;TZID=America/Sao_Paulo:20240831T183000
DTEND;TZID=America/Sao_Paulo:20240831T220000
DTSTAMP:20260421T054422
CREATED:20240728T220005Z
LAST-MODIFIED:20240728T220005Z
UID:5861-1725129000-1725141600@www.luteranamoema.org.br
SUMMARY:Encontro de casais
DESCRIPTION:
URL:https://www.luteranamoema.org.br/tec-event/encontro-de-casais/
END:VEVENT
BEGIN:VEVENT
DTSTART;TZID=America/Sao_Paulo:20240901T090000
DTEND;TZID=America/Sao_Paulo:20240901T103000
DTSTAMP:20260421T054422
CREATED:20240531T184038Z
LAST-MODIFIED:20240901T214951Z
UID:5778-1725181200-1725186600@www.luteranamoema.org.br
SUMMARY:Culto - 15º Domingo após Pentecostes
DESCRIPTION:LEITURAS:\nSalmo: Sl 119.129-136\n1ª Leitura: Dt 4.1-2\,6-9\n2ª Leitura: Ef 6.10-20\n3ª Leitura: Mc 7.14-23
URL:https://www.luteranamoema.org.br/tec-event/culto-15o-domingo-apos-pentecostes/
CATEGORIES:Culto
ATTACH;FMTTYPE=image/jpeg:https://www.luteranamoema.org.br/wp-content/uploads/2024/09/banner-agenda-01-09-24.jpg
END:VEVENT
BEGIN:VEVENT
DTSTART;TZID=America/Sao_Paulo:20240903T000000
DTEND;TZID=America/Sao_Paulo:20240905T000000
DTSTAMP:20260421T054422
CREATED:20240902T222441Z
LAST-MODIFIED:20240902T222441Z
UID:6372-1725321600-1725494400@www.luteranamoema.org.br
SUMMARY:Concílio Nacional de Pastores - RS
DESCRIPTION:
URL:https://www.luteranamoema.org.br/tec-event/concilio-nacional-de-pastores-rs/
END:VEVENT
BEGIN:VEVENT
DTSTART;TZID=America/Sao_Paulo:20240904T200000
DTEND;TZID=America/Sao_Paulo:20240904T210000
DTSTAMP:20260421T054422
CREATED:20240902T222443Z
LAST-MODIFIED:20240902T222443Z
UID:6380-1725480000-1725483600@www.luteranamoema.org.br
SUMMARY:Ensaio do Coral
DESCRIPTION:
URL:https://www.luteranamoema.org.br/tec-event/ensaio-do-coral-23/
END:VEVENT
BEGIN:VEVENT
DTSTART;VALUE=DATE:20240907
DTEND;VALUE=DATE:20240908
DTSTAMP:20260421T054422
CREATED:20240902T222441Z
LAST-MODIFIED:20240902T223026Z
UID:6373-1725667200-1725753599@www.luteranamoema.org.br
SUMMARY:Feriado da Independência do Brasil
DESCRIPTION:
URL:https://www.luteranamoema.org.br/tec-event/feriado-da-independencia-do-brasil/
END:VEVENT
BEGIN:VEVENT
DTSTART;TZID=America/Sao_Paulo:20240908T090000
DTEND;TZID=America/Sao_Paulo:20240908T103000
DTSTAMP:20260421T054422
CREATED:20240531T184038Z
LAST-MODIFIED:20240531T184038Z
UID:5780-1725786000-1725791400@www.luteranamoema.org.br
SUMMARY:Culto - 16º Domingo após Pentecostes
DESCRIPTION:LEITURAS:Salmo: Sl 146\n1ª Leitura: Is 35.4-7a\n2ª Leitura: Tg 2.1-10\,14-18\n3ª Leitura: Mc 7.(24-30)31-37
URL:https://www.luteranamoema.org.br/tec-event/culto-16o-domingo-apos-pentecostes/
CATEGORIES:Culto
END:VEVENT
BEGIN:VEVENT
DTSTART;TZID=America/Sao_Paulo:20240910T150000
DTEND;TZID=America/Sao_Paulo:20240910T180000
DTSTAMP:20260421T054422
CREATED:20240902T222441Z
LAST-MODIFIED:20240902T222441Z
UID:6375-1725980400-1725991200@www.luteranamoema.org.br
SUMMARY:Reunião de Pastores DP
DESCRIPTION:
URL:https://www.luteranamoema.org.br/tec-event/reuniao-de-pastores-dp-2/
END:VEVENT
BEGIN:VEVENT
DTSTART;TZID=America/Sao_Paulo:20240911T200000
DTEND;TZID=America/Sao_Paulo:20240911T210000
DTSTAMP:20260421T054422
CREATED:20240902T222443Z
LAST-MODIFIED:20240902T222443Z
UID:6381-1726084800-1726088400@www.luteranamoema.org.br
SUMMARY:Ensaio do Coral
DESCRIPTION:
URL:https://www.luteranamoema.org.br/tec-event/ensaio-do-coral-24/
END:VEVENT
BEGIN:VEVENT
DTSTART;TZID=America/Sao_Paulo:20240914T100000
DTEND;TZID=America/Sao_Paulo:20240914T113000
DTSTAMP:20260421T054422
CREATED:20240902T222443Z
LAST-MODIFIED:20240902T222443Z
UID:6378-1726308000-1726313400@www.luteranamoema.org.br
SUMMARY:Instrução de Confirmandos
DESCRIPTION:
URL:https://www.luteranamoema.org.br/tec-event/instrucao-de-confirmandos-8/
END:VEVENT
BEGIN:VEVENT
DTSTART;TZID=America/Sao_Paulo:20240915T090000
DTEND;TZID=America/Sao_Paulo:20240915T103000
DTSTAMP:20260421T054422
CREATED:20240531T184040Z
LAST-MODIFIED:20240531T184040Z
UID:5781-1726390800-1726396200@www.luteranamoema.org.br
SUMMARY:Culto - 17º Domingo após Pentecostes
DESCRIPTION:LEITURAS:Salmo: Sl 116.1-9\n1ª Leitura: Is 50.4-10\n2ª Leitura: Tg 3.1-12\n3ª Leitura: Mc 9.14-29
URL:https://www.luteranamoema.org.br/tec-event/culto-17o-domingo-apos-pentecostes/
CATEGORIES:Culto
END:VEVENT
END:VCALENDAR